BEGIN:VCALENDAR
VERSION:2.0
PRODID:-//Batavia Rod and Gun Club, Inc. - ECPv4.9.14.1//NONSGML v1.0//EN
CALSCALE:GREGORIAN
METHOD:PUBLISH
X-WR-CALNAME:Batavia Rod and Gun Club, Inc.
X-ORIGINAL-URL:https://bataviarodandgun.com
X-WR-CALDESC:Events for Batavia Rod and Gun Club, Inc.
BEGIN:VTIMEZONE
TZID:America/New_York
BEGIN:DAYLIGHT
TZOFFSETFROM:-0500
TZOFFSETTO:-0400
TZNAME:EDT
DTSTART:20220313T070000
END:DAYLIGHT
BEGIN:STANDARD
TZOFFSETFROM:-0400
TZOFFSETTO:-0500
TZNAME:EST
DTSTART:20221106T060000
END:STANDARD
BEGIN:DAYLIGHT
TZOFFSETFROM:-0500
TZOFFSETTO:-0400
TZNAME:EDT
DTSTART:20230312T070000
END:DAYLIGHT
BEGIN:STANDARD
TZOFFSETFROM:-0400
TZOFFSETTO:-0500
TZNAME:EST
DTSTART:20231105T060000
END:STANDARD
END:VTIMEZONE
BEGIN:VEVENT
DTSTART;TZID=America/New_York:20230121T080000
DTEND;TZID=America/New_York:20230122T110000
DTSTAMP:20260422T155343
CREATED:20230102T192229Z
LAST-MODIFIED:20230102T192229Z
UID:1906-1674288000-1674385200@bataviarodandgun.com
SUMMARY:Sporting Clays Open 8:00 - 11:00 am
DESCRIPTION:Last Squad Out – 11:00 am \n
URL:https://bataviarodandgun.com/event/sporting-clays-open-800-1100-am-5/
END:VEVENT
BEGIN:VEVENT
DTSTART;TZID=America/New_York:20230115T080000
DTEND;TZID=America/New_York:20230115T110000
DTSTAMP:20260422T155343
CREATED:20230102T192136Z
LAST-MODIFIED:20230102T192136Z
UID:1904-1673769600-1673780400@bataviarodandgun.com
SUMMARY:Sporting Clays Open 8:00 - 11:00 am
DESCRIPTION:Last Squad Out – 11:00 am \n
URL:https://bataviarodandgun.com/event/sporting-clays-open-800-1100-am-4/
END:VEVENT
BEGIN:VEVENT
DTSTART;TZID=America/New_York:20230114T080000
DTEND;TZID=America/New_York:20230114T110000
DTSTAMP:20260422T155343
CREATED:20230102T192046Z
LAST-MODIFIED:20230102T192046Z
UID:1902-1673683200-1673694000@bataviarodandgun.com
SUMMARY:Sporting Clays Open 8:00 - 11:00 am
DESCRIPTION:Last Squad Out 11:00 am \n
URL:https://bataviarodandgun.com/event/sporting-clays-open-800-1100-am-3/
END:VEVENT
BEGIN:VEVENT
DTSTART;TZID=America/New_York:20230108T080000
DTEND;TZID=America/New_York:20230108T110000
DTSTAMP:20260422T155343
CREATED:20230102T191617Z
LAST-MODIFIED:20230102T191807Z
UID:1897-1673164800-1673175600@bataviarodandgun.com
SUMMARY:Sporting Clays Open 8:00 - 11:00 am
DESCRIPTION:Last Squad Out – 11:00 am \n
URL:https://bataviarodandgun.com/event/sporting-clays-open-800-1100-am/
END:VEVENT
BEGIN:VEVENT
DTSTART;TZID=America/New_York:20230107T080000
DTEND;TZID=America/New_York:20230107T110000
DTSTAMP:20260422T155343
CREATED:20230102T191942Z
LAST-MODIFIED:20230102T191942Z
UID:1900-1673078400-1673089200@bataviarodandgun.com
SUMMARY:Sporting Clays Open 8:00 - 11:00 am
DESCRIPTION:Last Squad Out – 11:00 am \n
URL:https://bataviarodandgun.com/event/sporting-clays-open-800-1100-am-2/
END:VEVENT
BEGIN:VEVENT
DTSTART;TZID=America/New_York:20221225T080000
DTEND;TZID=America/New_York:20221225T080000
DTSTAMP:20260422T155343
CREATED:20221028T205012Z
LAST-MODIFIED:20221028T205012Z
UID:1872-1671955200-1671955200@bataviarodandgun.com
SUMMARY:Club Closed
DESCRIPTION:
URL:https://bataviarodandgun.com/event/club-closed-13/
END:VEVENT
BEGIN:VEVENT
DTSTART;TZID=America/New_York:20221218T080000
DTEND;TZID=America/New_York:20221218T080000
DTSTAMP:20260422T155343
CREATED:20221028T204924Z
LAST-MODIFIED:20221028T204924Z
UID:1870-1671350400-1671350400@bataviarodandgun.com
SUMMARY:Sporting Clays Open 8:00am
DESCRIPTION:
URL:https://bataviarodandgun.com/event/sporting-clays-open-800am-128/
END:VEVENT
BEGIN:VEVENT
DTSTART;TZID=America/New_York:20221211T080000
DTEND;TZID=America/New_York:20221211T080000
DTSTAMP:20260422T155343
CREATED:20221028T204848Z
LAST-MODIFIED:20221028T204848Z
UID:1868-1670745600-1670745600@bataviarodandgun.com
SUMMARY:Sporting Clays Open 8:00am
DESCRIPTION:
URL:https://bataviarodandgun.com/event/sporting-clays-open-800am-127/
END:VEVENT
BEGIN:VEVENT
DTSTART;TZID=America/New_York:20221204T080000
DTEND;TZID=America/New_York:20221204T080000
DTSTAMP:20260422T155343
CREATED:20221028T204818Z
LAST-MODIFIED:20221028T204818Z
UID:1866-1670140800-1670140800@bataviarodandgun.com
SUMMARY:Sporting Clays Open 8:00am
DESCRIPTION:
URL:https://bataviarodandgun.com/event/sporting-clays-open-800am-126/
END:VEVENT
BEGIN:VEVENT
DTSTART;VALUE=DATE:20221127
DTEND;VALUE=DATE:20221128
DTSTAMP:20260422T155343
CREATED:20221028T204451Z
LAST-MODIFIED:20221028T204451Z
UID:1860-1669507200-1669507200@bataviarodandgun.com
SUMMARY:Club Closed For Deer Season
DESCRIPTION:
URL:https://bataviarodandgun.com/event/club-closed-for-deer-season-2/
END:VEVENT
BEGIN:VEVENT
DTSTART;VALUE=DATE:20221120
DTEND;VALUE=DATE:20221121
DTSTAMP:20260422T155343
CREATED:20221028T204341Z
LAST-MODIFIED:20221028T204341Z
UID:1858-1668902400-1668902400@bataviarodandgun.com
SUMMARY:Club Closed For Deer Season
DESCRIPTION:
URL:https://bataviarodandgun.com/event/club-closed-for-deer-season/
END:VEVENT
BEGIN:VEVENT
DTSTART;TZID=America/New_York:20221113T080000
DTEND;TZID=America/New_York:20221113T080000
DTSTAMP:20260422T155343
CREATED:20221028T204744Z
LAST-MODIFIED:20221028T204744Z
UID:1864-1668326400-1668326400@bataviarodandgun.com
SUMMARY:Sporting Clays Open 8:00am
DESCRIPTION:
URL:https://bataviarodandgun.com/event/sporting-clays-open-800am-125/
END:VEVENT
BEGIN:VEVENT
DTSTART;TZID=America/New_York:20221106T080000
DTEND;TZID=America/New_York:20221106T080000
DTSTAMP:20260422T155343
CREATED:20221028T204652Z
LAST-MODIFIED:20221028T204652Z
UID:1862-1667721600-1667721600@bataviarodandgun.com
SUMMARY:Sporting Clays Open 8:00am
DESCRIPTION:
URL:https://bataviarodandgun.com/event/sporting-clays-open-800am-124/
END:VEVENT
BEGIN:VEVENT
DTSTART;TZID=America/New_York:20221030T080000
DTEND;TZID=America/New_York:20221030T110000
DTSTAMP:20260422T155343
CREATED:20220726T214912Z
LAST-MODIFIED:20220726T214912Z
UID:1848-1667116800-1667127600@bataviarodandgun.com
SUMMARY:Sporting Clays Open 8:00 am
DESCRIPTION:Sign Ups End – 11:00 am \nLast Squad Out – 11:00 am \n
URL:https://bataviarodandgun.com/event/sporting-clays-open-800-am-45/
END:VEVENT
BEGIN:VEVENT
DTSTART;TZID=America/New_York:20221023T080000
DTEND;TZID=America/New_York:20221023T110000
DTSTAMP:20260422T155343
CREATED:20220726T214831Z
LAST-MODIFIED:20220726T214831Z
UID:1846-1666512000-1666522800@bataviarodandgun.com
SUMMARY:Sporting Clays Open 8:00 am
DESCRIPTION:Sign Ups End – 11:00 am \nLast Squad Out – 11:00 am \n
URL:https://bataviarodandgun.com/event/sporting-clays-open-800-am-44/
END:VEVENT
BEGIN:VEVENT
DTSTART;TZID=America/New_York:20221016T080000
DTEND;TZID=America/New_York:20221016T110000
DTSTAMP:20260422T155343
CREATED:20220726T214741Z
LAST-MODIFIED:20220726T214741Z
UID:1844-1665907200-1665918000@bataviarodandgun.com
SUMMARY:Sporting Clays Open 8:00 am
DESCRIPTION:Sign Ups End – 11:00 am \nLast Squad Out – 11:00 am \n
URL:https://bataviarodandgun.com/event/sporting-clays-open-800-am-43/
END:VEVENT
BEGIN:VEVENT
DTSTART;TZID=America/New_York:20221009T080000
DTEND;TZID=America/New_York:20221009T110000
DTSTAMP:20260422T155343
CREATED:20220726T214653Z
LAST-MODIFIED:20220726T214653Z
UID:1842-1665302400-1665313200@bataviarodandgun.com
SUMMARY:Sporting Clays Open 8:00 am
DESCRIPTION:Sign Ups End – 11:00 am \nLast Squad Out – 11:00 am \n
URL:https://bataviarodandgun.com/event/sporting-clays-open-800-am-42/
END:VEVENT
BEGIN:VEVENT
DTSTART;TZID=America/New_York:20221002T080000
DTEND;TZID=America/New_York:20221002T110000
DTSTAMP:20260422T155343
CREATED:20220726T214610Z
LAST-MODIFIED:20220726T214610Z
UID:1840-1664697600-1664708400@bataviarodandgun.com
SUMMARY:Sporting Clays Open 8:00 am
DESCRIPTION:Sign Ups End – 11:00 am \nLast Squad Out – 11:00 am \n
URL:https://bataviarodandgun.com/event/sporting-clays-open-800-am-41/
END:VEVENT
BEGIN:VEVENT
DTSTART;TZID=America/New_York:20220925T080000
DTEND;TZID=America/New_York:20220925T110000
DTSTAMP:20260422T155343
CREATED:20220726T214433Z
LAST-MODIFIED:20220726T214433Z
UID:1838-1664092800-1664103600@bataviarodandgun.com
SUMMARY:Sporting Clays Open 8:00 am
DESCRIPTION:Sign Ups End – 11:00 am \nLast Squad Out – 11:00 am \n
URL:https://bataviarodandgun.com/event/sporting-clays-open-800-am-40/
END:VEVENT
BEGIN:VEVENT
DTSTART;TZID=America/New_York:20220918T080000
DTEND;TZID=America/New_York:20220918T110000
DTSTAMP:20260422T155343
CREATED:20220726T214356Z
LAST-MODIFIED:20220726T214356Z
UID:1836-1663488000-1663498800@bataviarodandgun.com
SUMMARY:Sporting Clays Open 8:00 am
DESCRIPTION:Sign Ups End – 11:00 am \nLast Squad Out – 11:00 am \n
URL:https://bataviarodandgun.com/event/sporting-clays-open-800-am-39/
END:VEVENT
BEGIN:VEVENT
DTSTART;TZID=America/New_York:20220911T080000
DTEND;TZID=America/New_York:20220911T110000
DTSTAMP:20260422T155343
CREATED:20220726T214323Z
LAST-MODIFIED:20220726T214323Z
UID:1834-1662883200-1662894000@bataviarodandgun.com
SUMMARY:Sporting Clays Open 8:00 am
DESCRIPTION:Sign Ups End – 11:00 am \nLast Squad Out – 11:00 am \n
URL:https://bataviarodandgun.com/event/sporting-clays-open-800-am-38/
END:VEVENT
BEGIN:VEVENT
DTSTART;TZID=America/New_York:20220904T080000
DTEND;TZID=America/New_York:20220904T110000
DTSTAMP:20260422T155343
CREATED:20220726T214234Z
LAST-MODIFIED:20220726T214234Z
UID:1832-1662278400-1662289200@bataviarodandgun.com
SUMMARY:Sporting Clays Open 8:00 am
DESCRIPTION:Sign Ups End – 11:00 am \nLast Squad Out – 11:00 am \n
URL:https://bataviarodandgun.com/event/sporting-clays-open-800-am-37/
END:VEVENT
BEGIN:VEVENT
DTSTART;TZID=America/New_York:20220828T080000
DTEND;TZID=America/New_York:20220828T110000
DTSTAMP:20260422T155343
CREATED:20220726T214157Z
LAST-MODIFIED:20220726T214157Z
UID:1830-1661673600-1661684400@bataviarodandgun.com
SUMMARY:Sporting Clays Open 8:00 am
DESCRIPTION:Sign Ups End – 11:00 am \nLast Squad Out – 11:00 am \n
URL:https://bataviarodandgun.com/event/sporting-clays-open-800-am-36/
END:VEVENT
BEGIN:VEVENT
DTSTART;TZID=America/New_York:20220821T080000
DTEND;TZID=America/New_York:20220821T110000
DTSTAMP:20260422T155343
CREATED:20220726T214042Z
LAST-MODIFIED:20220726T214042Z
UID:1828-1661068800-1661079600@bataviarodandgun.com
SUMMARY:Sporting Clays Open 8:00 am
DESCRIPTION:Sign Ups End – 11:00 am \nLast Squad Out – 11:00 am \n
URL:https://bataviarodandgun.com/event/sporting-clays-open-800-am-35/
END:VEVENT
BEGIN:VEVENT
DTSTART;TZID=America/New_York:20220814T080000
DTEND;TZID=America/New_York:20220814T110000
DTSTAMP:20260422T155343
CREATED:20220726T213954Z
LAST-MODIFIED:20220726T213954Z
UID:1826-1660464000-1660474800@bataviarodandgun.com
SUMMARY:Sporting Clays Open 8:00 am
DESCRIPTION:Sign Ups End – 11:00 am \nLast Squad Out – 11:00 am \n
URL:https://bataviarodandgun.com/event/sporting-clays-open-800-am-34/
END:VEVENT
BEGIN:VEVENT
DTSTART;TZID=America/New_York:20220807T080000
DTEND;TZID=America/New_York:20220807T110000
DTSTAMP:20260422T155343
CREATED:20220726T213844Z
LAST-MODIFIED:20220726T213844Z
UID:1824-1659859200-1659870000@bataviarodandgun.com
SUMMARY:Sporting Clays Open 8:00 am
DESCRIPTION:Sign Ups End – 11:00 am \nLast Squad Out – 11:00 am \n
URL:https://bataviarodandgun.com/event/sporting-clays-open-800-am-22/
END:VEVENT
BEGIN:VEVENT
DTSTART;TZID=America/New_York:20220731T080000
DTEND;TZID=America/New_York:20220731T110000
DTSTAMP:20260422T155343
CREATED:20220411T164518Z
LAST-MODIFIED:20220411T164518Z
UID:1806-1659254400-1659265200@bataviarodandgun.com
SUMMARY:Sporting Clays Open 8:00 am
DESCRIPTION:Sign Ups End – 11:00 am \nLast Squad Out – 11:00 am \n
URL:https://bataviarodandgun.com/event/sporting-clays-open-800-am-33/
END:VEVENT
BEGIN:VEVENT
DTSTART;TZID=America/New_York:20220724T080000
DTEND;TZID=America/New_York:20220724T110000
DTSTAMP:20260422T155343
CREATED:20220411T164433Z
LAST-MODIFIED:20220411T164433Z
UID:1804-1658649600-1658660400@bataviarodandgun.com
SUMMARY:Sporting Clays Open 8:00 am
DESCRIPTION:Sign Ups End – 11:00 am \nLast Squad Out – 11:00 am \n
URL:https://bataviarodandgun.com/event/sporting-clays-open-800-am-32/
END:VEVENT
BEGIN:VEVENT
DTSTART;TZID=America/New_York:20220717T080000
DTEND;TZID=America/New_York:20220717T110000
DTSTAMP:20260422T155343
CREATED:20220411T164349Z
LAST-MODIFIED:20220411T164349Z
UID:1802-1658044800-1658055600@bataviarodandgun.com
SUMMARY:Sporting Clays Open 8:00 am
DESCRIPTION:Sign Ups End – 11:00 am \nLast Squad Out – 11:00 am \n
URL:https://bataviarodandgun.com/event/sporting-clays-open-800-am-31/
END:VEVENT
BEGIN:VEVENT
DTSTART;TZID=America/New_York:20220710T080000
DTEND;TZID=America/New_York:20220710T110000
DTSTAMP:20260422T155343
CREATED:20220411T164228Z
LAST-MODIFIED:20220411T164228Z
UID:1800-1657440000-1657450800@bataviarodandgun.com
SUMMARY:Sporting Clays Open 8:00 am
DESCRIPTION:Sign Ups End – 11:00 am \nLast Squad Out – 11:00 am \n
URL:https://bataviarodandgun.com/event/sporting-clays-open-800-am-30/
END:VEVENT
END:VCALENDAR