BEGIN:VCALENDAR
VERSION:2.0
PRODID:-//Batavia Rod and Gun Club, Inc. - ECPv4.9.14.1//NONSGML v1.0//EN
CALSCALE:GREGORIAN
METHOD:PUBLISH
X-WR-CALNAME:Batavia Rod and Gun Club, Inc.
X-ORIGINAL-URL:https://bataviarodandgun.com
X-WR-CALDESC:Events for Batavia Rod and Gun Club, Inc.
BEGIN:VTIMEZONE
TZID:America/New_York
BEGIN:DAYLIGHT
TZOFFSETFROM:-0500
TZOFFSETTO:-0400
TZNAME:EDT
DTSTART:20240310T070000
END:DAYLIGHT
BEGIN:STANDARD
TZOFFSETFROM:-0400
TZOFFSETTO:-0500
TZNAME:EST
DTSTART:20241103T060000
END:STANDARD
END:VTIMEZONE
BEGIN:VEVENT
DTSTART;TZID=America/New_York:20240602T080000
DTEND;TZID=America/New_York:20240602T110000
DTSTAMP:20260422T111340
CREATED:20240311T175717Z
LAST-MODIFIED:20240311T175717Z
UID:2221-1717315200-1717326000@bataviarodandgun.com
SUMMARY:Club Open 8:00 - Last Squad Out By 11:00
DESCRIPTION:
URL:https://bataviarodandgun.com/event/club-open-800-last-squad-out-by-1100-26/
END:VEVENT
BEGIN:VEVENT
DTSTART;TZID=America/New_York:20240526T080000
DTEND;TZID=America/New_York:20240526T110000
DTSTAMP:20260422T111340
CREATED:20240311T175630Z
LAST-MODIFIED:20240311T175630Z
UID:2219-1716710400-1716721200@bataviarodandgun.com
SUMMARY:Club Open 8:00 - Last Squad Out By 11:00
DESCRIPTION:
URL:https://bataviarodandgun.com/event/club-open-800-last-squad-out-by-1100-25/
END:VEVENT
BEGIN:VEVENT
DTSTART;TZID=America/New_York:20240520T200000
DTEND;TZID=America/New_York:20240520T210000
DTSTAMP:20260422T111340
CREATED:20231219T212622Z
LAST-MODIFIED:20231219T212622Z
UID:2118-1716235200-1716238800@bataviarodandgun.com
SUMMARY:Member Meeting 7:00 PM
DESCRIPTION:
URL:https://bataviarodandgun.com/event/member-meeting-700-pm-4/
END:VEVENT
BEGIN:VEVENT
DTSTART;TZID=America/New_York:20240519T080000
DTEND;TZID=America/New_York:20240519T110000
DTSTAMP:20260422T111340
CREATED:20240311T175545Z
LAST-MODIFIED:20240311T175545Z
UID:2217-1716105600-1716116400@bataviarodandgun.com
SUMMARY:Club Open 8:00 - Last Squad Out By 11:00
DESCRIPTION:
URL:https://bataviarodandgun.com/event/club-open-800-last-squad-out-by-1100-24/
END:VEVENT
BEGIN:VEVENT
DTSTART;TZID=America/New_York:20240512T080000
DTEND;TZID=America/New_York:20240512T110000
DTSTAMP:20260422T111340
CREATED:20240311T175451Z
LAST-MODIFIED:20240311T175451Z
UID:2215-1715500800-1715511600@bataviarodandgun.com
SUMMARY:Club Open 8:00 - Last Squad Out By 11:00
DESCRIPTION:
URL:https://bataviarodandgun.com/event/club-open-800-last-squad-out-by-1100-23/
END:VEVENT
BEGIN:VEVENT
DTSTART;TZID=America/New_York:20240505T080000
DTEND;TZID=America/New_York:20240505T110000
DTSTAMP:20260422T111340
CREATED:20240311T175404Z
LAST-MODIFIED:20240311T175404Z
UID:2213-1714896000-1714906800@bataviarodandgun.com
SUMMARY:Club Open 8:00 - Last Squad Out By 11:00
DESCRIPTION:
URL:https://bataviarodandgun.com/event/club-open-800-last-squad-out-by-1100-22/
END:VEVENT
BEGIN:VEVENT
DTSTART;TZID=America/New_York:20240428T080000
DTEND;TZID=America/New_York:20240428T110000
DTSTAMP:20260422T111340
CREATED:20240311T175311Z
LAST-MODIFIED:20240311T175311Z
UID:2211-1714291200-1714302000@bataviarodandgun.com
SUMMARY:Club Open 8:00 - Last Squad Out By 11:00
DESCRIPTION:
URL:https://bataviarodandgun.com/event/club-open-800-last-squad-out-by-1100-21/
END:VEVENT
BEGIN:VEVENT
DTSTART;TZID=America/New_York:20240421T080000
DTEND;TZID=America/New_York:20240421T110000
DTSTAMP:20260422T111340
CREATED:20240311T175225Z
LAST-MODIFIED:20240311T175225Z
UID:2209-1713686400-1713697200@bataviarodandgun.com
SUMMARY:Club Open 8:00 - Last Squad Out By 11:00
DESCRIPTION:
URL:https://bataviarodandgun.com/event/club-open-800-last-squad-out-by-1100-20/
END:VEVENT
BEGIN:VEVENT
DTSTART;TZID=America/New_York:20240415T200000
DTEND;TZID=America/New_York:20240415T210000
DTSTAMP:20260422T111340
CREATED:20231219T212520Z
LAST-MODIFIED:20231219T212520Z
UID:2116-1713211200-1713214800@bataviarodandgun.com
SUMMARY:Member Meeting 7:00 PM
DESCRIPTION:
URL:https://bataviarodandgun.com/event/member-meeting-700-pm-3/
END:VEVENT
BEGIN:VEVENT
DTSTART;TZID=America/New_York:20240414T080000
DTEND;TZID=America/New_York:20240414T110000
DTSTAMP:20260422T111340
CREATED:20240311T175129Z
LAST-MODIFIED:20240311T175129Z
UID:2207-1713081600-1713092400@bataviarodandgun.com
SUMMARY:Club Open 8:00 - Last Squad Out By 11:00
DESCRIPTION:
URL:https://bataviarodandgun.com/event/club-open-800-last-squad-out-by-1100-19/
END:VEVENT
BEGIN:VEVENT
DTSTART;TZID=America/New_York:20240407T080000
DTEND;TZID=America/New_York:20240407T140000
DTSTAMP:20260422T111340
CREATED:20231219T215549Z
LAST-MODIFIED:20231219T215549Z
UID:2160-1712476800-1712498400@bataviarodandgun.com
SUMMARY:Hunters Tour
DESCRIPTION:Registration: 8:30 – 1:00 \nShooting: 9:00 – 2:00 \n
URL:https://bataviarodandgun.com/event/hunters-tour-12/
CATEGORIES:Hunters Tour Events
END:VEVENT
BEGIN:VEVENT
DTSTART;TZID=America/New_York:20240406T083000
DTEND;TZID=America/New_York:20240406T140000
DTSTAMP:20260422T111340
CREATED:20231219T215428Z
LAST-MODIFIED:20231219T215428Z
UID:2158-1712392200-1712412000@bataviarodandgun.com
SUMMARY:Hunters Tour
DESCRIPTION:Registration: 8:30 – 1:00 \nShooting: 9:00 – 2:00 \n
URL:https://bataviarodandgun.com/event/hunters-tour-11/
CATEGORIES:Hunters Tour Events
END:VEVENT
BEGIN:VEVENT
DTSTART;VALUE=DATE:20240331
DTEND;VALUE=DATE:20240401
DTSTAMP:20260422T111340
CREATED:20231219T213522Z
LAST-MODIFIED:20231219T213522Z
UID:2134-1711843200-1711929599@bataviarodandgun.com
SUMMARY:Club Closed - Happy Easter
DESCRIPTION:
URL:https://bataviarodandgun.com/event/club-closed-happy-easter/
END:VEVENT
BEGIN:VEVENT
DTSTART;TZID=America/New_York:20240324T080000
DTEND;TZID=America/New_York:20240324T110000
DTSTAMP:20260422T111340
CREATED:20240122T211320Z
LAST-MODIFIED:20240122T211320Z
UID:2197-1711267200-1711278000@bataviarodandgun.com
SUMMARY:Club Open 8:00 - Last Squad Out By 11:00
DESCRIPTION:
URL:https://bataviarodandgun.com/event/club-open-800-last-squad-out-by-1100-18/
END:VEVENT
BEGIN:VEVENT
DTSTART;TZID=America/New_York:20240318T190000
DTEND;TZID=America/New_York:20240318T200000
DTSTAMP:20260422T111340
CREATED:20231219T212427Z
LAST-MODIFIED:20240108T124143Z
UID:2114-1710788400-1710792000@bataviarodandgun.com
SUMMARY:Member Meeting 7:00 PM
DESCRIPTION:
URL:https://bataviarodandgun.com/event/member-meeting-700-pm-2/
END:VEVENT
BEGIN:VEVENT
DTSTART;TZID=America/New_York:20240317T080000
DTEND;TZID=America/New_York:20240317T110000
DTSTAMP:20260422T111340
CREATED:20240122T211219Z
LAST-MODIFIED:20240122T211219Z
UID:2195-1710662400-1710673200@bataviarodandgun.com
SUMMARY:League Shooters Only - No Open Shooting
DESCRIPTION:Today is our league championship shoot and the club is closed to non-league shooters.  All league shooters must be out on the course by 11:00 am. \n
URL:https://bataviarodandgun.com/event/league-shooters-only-no-open-shooting/
END:VEVENT
BEGIN:VEVENT
DTSTART;VALUE=DATE:20240316
DTEND;VALUE=DATE:20240317
DTSTAMP:20260422T111340
CREATED:20240122T211450Z
LAST-MODIFIED:20240122T211450Z
UID:2199-1710547200-1710633599@bataviarodandgun.com
SUMMARY:Club Closed On Saturdays Until January Of 2025
DESCRIPTION:
URL:https://bataviarodandgun.com/event/club-closed-on-saturdays-until-january-of-2025/
END:VEVENT
BEGIN:VEVENT
DTSTART;TZID=America/New_York:20240309T080000
DTEND;TZID=America/New_York:20240310T110000
DTSTAMP:20260422T111341
CREATED:20240122T210827Z
LAST-MODIFIED:20240122T210827Z
UID:2193-1709971200-1710068400@bataviarodandgun.com
SUMMARY:Club Open 8:00 - Last Squad Out By 11:00
DESCRIPTION:
URL:https://bataviarodandgun.com/event/club-open-800-last-squad-out-by-1100-17/
END:VEVENT
BEGIN:VEVENT
DTSTART;TZID=America/New_York:20240302T080000
DTEND;TZID=America/New_York:20240303T110000
DTSTAMP:20260422T111341
CREATED:20240122T210628Z
LAST-MODIFIED:20240122T210628Z
UID:2189-1709366400-1709463600@bataviarodandgun.com
SUMMARY:Club Open 8:00 - Last Squad Out By 11:00
DESCRIPTION:
URL:https://bataviarodandgun.com/event/club-open-800-last-squad-out-by-1100-16/
END:VEVENT
BEGIN:VEVENT
DTSTART;TZID=America/New_York:20240225T080000
DTEND;TZID=America/New_York:20240225T080000
DTSTAMP:20260422T111341
CREATED:20240122T205416Z
LAST-MODIFIED:20240122T205416Z
UID:2187-1708848000-1708848000@bataviarodandgun.com
SUMMARY:Club Open 8:00 - Last Squad Out By 11:00
DESCRIPTION:
URL:https://bataviarodandgun.com/event/club-open-800-last-squad-out-by-1100-15/
END:VEVENT
BEGIN:VEVENT
DTSTART;TZID=America/New_York:20240224T080000
DTEND;TZID=America/New_York:20240224T080000
DTSTAMP:20260422T111341
CREATED:20240122T205342Z
LAST-MODIFIED:20240122T205342Z
UID:2185-1708761600-1708761600@bataviarodandgun.com
SUMMARY:Club Open 8:00 - Last Squad Out By 11:00
DESCRIPTION:
URL:https://bataviarodandgun.com/event/club-open-800-last-squad-out-by-1100-14/
END:VEVENT
BEGIN:VEVENT
DTSTART;TZID=America/New_York:20240219T190000
DTEND;TZID=America/New_York:20240219T200000
DTSTAMP:20260422T111341
CREATED:20231219T212107Z
LAST-MODIFIED:20240108T124016Z
UID:2112-1708369200-1708372800@bataviarodandgun.com
SUMMARY:Member Meeting 7:00 PM
DESCRIPTION:
URL:https://bataviarodandgun.com/event/member-meeting-700-pm/
END:VEVENT
BEGIN:VEVENT
DTSTART;TZID=America/New_York:20240218T080000
DTEND;TZID=America/New_York:20240218T110000
DTSTAMP:20260422T111341
CREATED:20240122T205308Z
LAST-MODIFIED:20240122T205308Z
UID:2183-1708243200-1708254000@bataviarodandgun.com
SUMMARY:Club Open 8:00 - Last Squad Out By 11:00
DESCRIPTION:
URL:https://bataviarodandgun.com/event/club-open-800-last-squad-out-by-1100-13/
END:VEVENT
BEGIN:VEVENT
DTSTART;TZID=America/New_York:20240217T080000
DTEND;TZID=America/New_York:20240217T110000
DTSTAMP:20260422T111341
CREATED:20240122T205139Z
LAST-MODIFIED:20240122T205139Z
UID:2181-1708156800-1708167600@bataviarodandgun.com
SUMMARY:Club Open 8:00 - Last Squad Out By 11:00
DESCRIPTION:
URL:https://bataviarodandgun.com/event/club-open-800-last-squad-out-by-1100-12/
END:VEVENT
BEGIN:VEVENT
DTSTART;TZID=America/New_York:20240211T080000
DTEND;TZID=America/New_York:20240211T110000
DTSTAMP:20260422T111341
CREATED:20240122T205043Z
LAST-MODIFIED:20240122T205043Z
UID:2179-1707638400-1707649200@bataviarodandgun.com
SUMMARY:Club Open 8:00 - Last Squad Out By 11:00
DESCRIPTION:
URL:https://bataviarodandgun.com/event/club-open-800-last-squad-out-by-1100-11/
END:VEVENT
BEGIN:VEVENT
DTSTART;TZID=America/New_York:20240210T080000
DTEND;TZID=America/New_York:20240210T110000
DTSTAMP:20260422T111341
CREATED:20240122T204957Z
LAST-MODIFIED:20240122T204957Z
UID:2177-1707552000-1707562800@bataviarodandgun.com
SUMMARY:Club Open 8:00 - Last Squad Out By 11:00
DESCRIPTION:
URL:https://bataviarodandgun.com/event/club-open-800-last-squad-out-by-1100-10/
END:VEVENT
BEGIN:VEVENT
DTSTART;TZID=America/New_York:20240204T080000
DTEND;TZID=America/New_York:20240204T110000
DTSTAMP:20260422T111341
CREATED:20240122T204843Z
LAST-MODIFIED:20240122T204843Z
UID:2175-1707033600-1707044400@bataviarodandgun.com
SUMMARY:Club Open 8:00 - Last Squad Out By 11:00
DESCRIPTION:
URL:https://bataviarodandgun.com/event/club-open-800-last-squad-out-by-1100-9/
END:VEVENT
BEGIN:VEVENT
DTSTART;TZID=America/New_York:20240203T080000
DTEND;TZID=America/New_York:20240203T110000
DTSTAMP:20260422T111341
CREATED:20240122T204807Z
LAST-MODIFIED:20240122T210242Z
UID:2173-1706947200-1706958000@bataviarodandgun.com
SUMMARY:Club Open 8:00 - Last Squad Out By 11:00
DESCRIPTION:
URL:https://bataviarodandgun.com/event/club-open-800-last-squad-out-by-1100-8/
END:VEVENT
BEGIN:VEVENT
DTSTART;TZID=America/New_York:20240128T080000
DTEND;TZID=America/New_York:20240128T110000
DTSTAMP:20260422T111341
CREATED:20231219T214956Z
LAST-MODIFIED:20231219T214956Z
UID:2156-1706428800-1706439600@bataviarodandgun.com
SUMMARY:Club Open 8:00 - Last Squad Out By 11:00
DESCRIPTION:
URL:https://bataviarodandgun.com/event/club-open-800-last-squad-out-by-1100-7/
END:VEVENT
BEGIN:VEVENT
DTSTART;TZID=America/New_York:20240127T080000
DTEND;TZID=America/New_York:20240127T110000
DTSTAMP:20260422T111341
CREATED:20231219T214905Z
LAST-MODIFIED:20231219T214905Z
UID:2154-1706342400-1706353200@bataviarodandgun.com
SUMMARY:Club Open 8:00 - Last Squad Out By 11:00
DESCRIPTION:
URL:https://bataviarodandgun.com/event/club-open-800-last-squad-out-by-1100-6/
END:VEVENT
END:VCALENDAR