BEGIN:VCALENDAR
VERSION:2.0
PRODID:-//Batavia Rod and Gun Club, Inc. - ECPv4.9.14.1//NONSGML v1.0//EN
CALSCALE:GREGORIAN
METHOD:PUBLISH
X-WR-CALNAME:Batavia Rod and Gun Club, Inc.
X-ORIGINAL-URL:https://bataviarodandgun.com
X-WR-CALDESC:Events for Batavia Rod and Gun Club, Inc.
BEGIN:VTIMEZONE
TZID:America/New_York
BEGIN:DAYLIGHT
TZOFFSETFROM:-0500
TZOFFSETTO:-0400
TZNAME:EDT
DTSTART:20240310T070000
END:DAYLIGHT
BEGIN:STANDARD
TZOFFSETFROM:-0400
TZOFFSETTO:-0500
TZNAME:EST
DTSTART:20241103T060000
END:STANDARD
END:VTIMEZONE
BEGIN:VEVENT
DTSTART;TZID=America/New_York:20241110T080000
DTEND;TZID=America/New_York:20241110T110000
DTSTAMP:20260422T095311
CREATED:20240819T161129Z
LAST-MODIFIED:20240819T161129Z
UID:2284-1731225600-1731236400@bataviarodandgun.com
SUMMARY:Club Open - Last Squad Out By 11:00 am
DESCRIPTION:
URL:https://bataviarodandgun.com/event/club-open-last-squad-out-by-1100-am-18/
END:VEVENT
BEGIN:VEVENT
DTSTART;TZID=America/New_York:20241103T080000
DTEND;TZID=America/New_York:20241103T110000
DTSTAMP:20260422T095311
CREATED:20240819T160927Z
LAST-MODIFIED:20240819T160927Z
UID:2282-1730620800-1730631600@bataviarodandgun.com
SUMMARY:Club Open - Last Squad Out By 11:00 am
DESCRIPTION:
URL:https://bataviarodandgun.com/event/club-open-last-squad-out-by-1100-am-17/
END:VEVENT
BEGIN:VEVENT
DTSTART;TZID=America/New_York:20241027T080000
DTEND;TZID=America/New_York:20241027T110000
DTSTAMP:20260422T095311
CREATED:20240819T160419Z
LAST-MODIFIED:20240819T160419Z
UID:2280-1730016000-1730026800@bataviarodandgun.com
SUMMARY:Club Open - Last Squad Out By 11:00 am
DESCRIPTION:
URL:https://bataviarodandgun.com/event/club-open-last-squad-out-by-1100-am-16/
END:VEVENT
BEGIN:VEVENT
DTSTART;TZID=America/New_York:20241021T200000
DTEND;TZID=America/New_York:20241021T210000
DTSTAMP:20260422T095311
CREATED:20231219T213138Z
LAST-MODIFIED:20231219T213138Z
UID:2128-1729540800-1729544400@bataviarodandgun.com
SUMMARY:Member Meeting 7:00 PM
DESCRIPTION:
URL:https://bataviarodandgun.com/event/member-meeting-700-pm-9/
END:VEVENT
BEGIN:VEVENT
DTSTART;TZID=America/New_York:20241020T080000
DTEND;TZID=America/New_York:20241020T110000
DTSTAMP:20260422T095311
CREATED:20240819T160019Z
LAST-MODIFIED:20240819T160019Z
UID:2278-1729411200-1729422000@bataviarodandgun.com
SUMMARY:Club Open - Last Squad Out By 11:00 am
DESCRIPTION:
URL:https://bataviarodandgun.com/event/club-open-last-squad-out-by-1100-am-15/
END:VEVENT
BEGIN:VEVENT
DTSTART;TZID=America/New_York:20241013T080000
DTEND;TZID=America/New_York:20241013T110000
DTSTAMP:20260422T095311
CREATED:20240819T155930Z
LAST-MODIFIED:20240819T155930Z
UID:2276-1728806400-1728817200@bataviarodandgun.com
SUMMARY:Club Open - Last Squad Out By 11:00 am
DESCRIPTION:
URL:https://bataviarodandgun.com/event/club-open-last-squad-out-by-1100-am-14/
END:VEVENT
BEGIN:VEVENT
DTSTART;TZID=America/New_York:20241006T080000
DTEND;TZID=America/New_York:20241006T140000
DTSTAMP:20260422T095311
CREATED:20240819T155825Z
LAST-MODIFIED:20240819T155825Z
UID:2274-1728201600-1728223200@bataviarodandgun.com
SUMMARY:Club Open - Last Squad Out By 11:00 am
DESCRIPTION:
URL:https://bataviarodandgun.com/event/club-open-last-squad-out-by-1100-am-13/
END:VEVENT
BEGIN:VEVENT
DTSTART;TZID=America/New_York:20240929T080000
DTEND;TZID=America/New_York:20240929T140000
DTSTAMP:20260422T095311
CREATED:20240819T155739Z
LAST-MODIFIED:20240819T155739Z
UID:2272-1727596800-1727618400@bataviarodandgun.com
SUMMARY:Club Open - Last Squad Out By 11:00 am
DESCRIPTION:
URL:https://bataviarodandgun.com/event/club-open-last-squad-out-by-1100-am-12/
END:VEVENT
BEGIN:VEVENT
DTSTART;TZID=America/New_York:20240922T080000
DTEND;TZID=America/New_York:20240922T110000
DTSTAMP:20260422T095311
CREATED:20240819T155628Z
LAST-MODIFIED:20240819T155628Z
UID:2270-1726992000-1727002800@bataviarodandgun.com
SUMMARY:Club Open - Last Squad Out By 11:00 am
DESCRIPTION:
URL:https://bataviarodandgun.com/event/club-open-last-squad-out-by-1100-am-11/
END:VEVENT
BEGIN:VEVENT
DTSTART;TZID=America/New_York:20240916T200000
DTEND;TZID=America/New_York:20240916T210000
DTSTAMP:20260422T095311
CREATED:20231219T213023Z
LAST-MODIFIED:20231219T213023Z
UID:2126-1726516800-1726520400@bataviarodandgun.com
SUMMARY:Member Meeting 7:00 PM
DESCRIPTION:
URL:https://bataviarodandgun.com/event/member-meeting-700-pm-8/
END:VEVENT
BEGIN:VEVENT
DTSTART;TZID=America/New_York:20240915T080000
DTEND;TZID=America/New_York:20240915T110000
DTSTAMP:20260422T095311
CREATED:20240819T155528Z
LAST-MODIFIED:20240819T155528Z
UID:2268-1726387200-1726398000@bataviarodandgun.com
SUMMARY:Club Open - Last Squad Out By 11:00 am
DESCRIPTION:
URL:https://bataviarodandgun.com/event/club-open-last-squad-out-by-1100-am-10/
END:VEVENT
BEGIN:VEVENT
DTSTART;TZID=America/New_York:20240908T083000
DTEND;TZID=America/New_York:20240908T140000
DTSTAMP:20260422T095311
CREATED:20240819T154530Z
LAST-MODIFIED:20240819T154641Z
UID:2264-1725784200-1725804000@bataviarodandgun.com
SUMMARY:Hunters Tour
DESCRIPTION:Registration – 8:30 – 1:00 \nShooting – 9:00 – 2:00 \n
URL:https://bataviarodandgun.com/event/hunters-tour-14/
CATEGORIES:Hunters Tour Events
END:VEVENT
BEGIN:VEVENT
DTSTART;TZID=America/New_York:20240907T083000
DTEND;TZID=America/New_York:20240907T140000
DTSTAMP:20260422T095311
CREATED:20240819T154402Z
LAST-MODIFIED:20240819T154402Z
UID:2262-1725697800-1725717600@bataviarodandgun.com
SUMMARY:Hunters Tour
DESCRIPTION:Registration – 8:30 – 1:00 \nShooting – 9:00 – 2:00 \n
URL:https://bataviarodandgun.com/event/hunters-tour-13/
CATEGORIES:Hunters Tour Events
END:VEVENT
BEGIN:VEVENT
DTSTART;TZID=America/New_York:20240901T080000
DTEND;TZID=America/New_York:20240901T110000
DTSTAMP:20260422T095311
CREATED:20240819T155353Z
LAST-MODIFIED:20240819T155353Z
UID:2266-1725177600-1725188400@bataviarodandgun.com
SUMMARY:Club Open - Last Squad Out By 11:00 am
DESCRIPTION:
URL:https://bataviarodandgun.com/event/club-open-last-squad-out-by-1100-am-9/
END:VEVENT
BEGIN:VEVENT
DTSTART;TZID=America/New_York:20240825T080000
DTEND;TZID=America/New_York:20240825T110000
DTSTAMP:20260422T095311
CREATED:20240606T154326Z
LAST-MODIFIED:20240606T154326Z
UID:2250-1724572800-1724583600@bataviarodandgun.com
SUMMARY:Club Open - Last Squad Out By 11:00 am
DESCRIPTION:
URL:https://bataviarodandgun.com/event/club-open-last-squad-out-by-1100-am-8/
END:VEVENT
BEGIN:VEVENT
DTSTART;TZID=America/New_York:20240819T200000
DTEND;TZID=America/New_York:20240819T210000
DTSTAMP:20260422T095311
CREATED:20231219T212926Z
LAST-MODIFIED:20240611T130832Z
UID:2124-1724097600-1724101200@bataviarodandgun.com
SUMMARY:No Member Meeting This Month
DESCRIPTION:
URL:https://bataviarodandgun.com/event/member-meeting-700-pm-7/
END:VEVENT
BEGIN:VEVENT
DTSTART;TZID=America/New_York:20240818T080000
DTEND;TZID=America/New_York:20240818T110000
DTSTAMP:20260422T095311
CREATED:20240606T154238Z
LAST-MODIFIED:20240606T154238Z
UID:2248-1723968000-1723978800@bataviarodandgun.com
SUMMARY:Club Open - Last Squad Out By 11:00 am
DESCRIPTION:
URL:https://bataviarodandgun.com/event/club-open-last-squad-out-by-1100-am-7/
END:VEVENT
BEGIN:VEVENT
DTSTART;TZID=America/New_York:20240811T080000
DTEND;TZID=America/New_York:20240811T110000
DTSTAMP:20260422T095311
CREATED:20240606T154155Z
LAST-MODIFIED:20240606T154155Z
UID:2246-1723363200-1723374000@bataviarodandgun.com
SUMMARY:Club Open - Last Squad Out By 11:00 am
DESCRIPTION:
URL:https://bataviarodandgun.com/event/club-open-last-squad-out-by-1100-am-6/
END:VEVENT
BEGIN:VEVENT
DTSTART;TZID=America/New_York:20240804T080000
DTEND;TZID=America/New_York:20240804T110000
DTSTAMP:20260422T095311
CREATED:20240606T154113Z
LAST-MODIFIED:20240606T154113Z
UID:2244-1722758400-1722769200@bataviarodandgun.com
SUMMARY:Club Open - Last Squad Out By 11:00 am
DESCRIPTION:
URL:https://bataviarodandgun.com/event/club-open-last-squad-out-by-1100-am-5/
END:VEVENT
BEGIN:VEVENT
DTSTART;TZID=America/New_York:20240803T080000
DTEND;TZID=America/New_York:20240803T080000
DTSTAMP:20260422T095311
CREATED:20240606T181058Z
LAST-MODIFIED:20240606T181601Z
UID:2253-1722672000-1722672000@bataviarodandgun.com
SUMMARY:Ducks Unlimited Shoot - Registration 8:00 am / Shooting 9:00 am
DESCRIPTION:https://bataviarodandgun.com/wp-content/uploads/2024/06/DU-Flyer.pdf \n
URL:https://bataviarodandgun.com/event/ducks-unlimited-shoot-registration-800-am-shooting-900-am/
END:VEVENT
BEGIN:VEVENT
DTSTART;TZID=America/New_York:20240728T080000
DTEND;TZID=America/New_York:20240728T080000
DTSTAMP:20260422T095311
CREATED:20240606T154019Z
LAST-MODIFIED:20240606T154019Z
UID:2242-1722153600-1722153600@bataviarodandgun.com
SUMMARY:Club Open - Last Squad Out By 11:00 am
DESCRIPTION:
URL:https://bataviarodandgun.com/event/club-open-last-squad-out-by-1100-am-4/
END:VEVENT
BEGIN:VEVENT
DTSTART;TZID=America/New_York:20240721T080000
DTEND;TZID=America/New_York:20240721T110000
DTSTAMP:20260422T095311
CREATED:20240606T153926Z
LAST-MODIFIED:20240606T153926Z
UID:2240-1721548800-1721559600@bataviarodandgun.com
SUMMARY:Club Open - Last Squad Out By 11:00 am
DESCRIPTION:
URL:https://bataviarodandgun.com/event/club-open-last-squad-out-by-1100-am-3/
END:VEVENT
BEGIN:VEVENT
DTSTART;TZID=America/New_York:20240715T200000
DTEND;TZID=America/New_York:20240715T210000
DTSTAMP:20260422T095311
CREATED:20231219T212833Z
LAST-MODIFIED:20240611T130930Z
UID:2122-1721073600-1721077200@bataviarodandgun.com
SUMMARY:No Member Meeting This Month
DESCRIPTION:
URL:https://bataviarodandgun.com/event/member-meeting-700-pm-6/
END:VEVENT
BEGIN:VEVENT
DTSTART;TZID=America/New_York:20240714T080000
DTEND;TZID=America/New_York:20240714T110000
DTSTAMP:20260422T095311
CREATED:20240606T153842Z
LAST-MODIFIED:20240606T153842Z
UID:2238-1720944000-1720954800@bataviarodandgun.com
SUMMARY:Club Open - Last Squad Out By 11:00 am
DESCRIPTION:
URL:https://bataviarodandgun.com/event/club-open-last-squad-out-by-1100-am-2/
END:VEVENT
BEGIN:VEVENT
DTSTART;TZID=America/New_York:20240707T080000
DTEND;TZID=America/New_York:20240707T110000
DTSTAMP:20260422T095311
CREATED:20240606T153724Z
LAST-MODIFIED:20240606T153724Z
UID:2236-1720339200-1720350000@bataviarodandgun.com
SUMMARY:Club Open - Last Squad Out By 11:00 am
DESCRIPTION:
URL:https://bataviarodandgun.com/event/club-open-last-squad-out-by-1100-am/
END:VEVENT
BEGIN:VEVENT
DTSTART;TZID=America/New_York:20240630T080000
DTEND;TZID=America/New_York:20240630T110000
DTSTAMP:20260422T095311
CREATED:20240311T180038Z
LAST-MODIFIED:20240311T180038Z
UID:2229-1719734400-1719745200@bataviarodandgun.com
SUMMARY:Club Open 8:00 - Last Squad Out By 11:00
DESCRIPTION:
URL:https://bataviarodandgun.com/event/club-open-800-last-squad-out-by-1100-30/
END:VEVENT
BEGIN:VEVENT
DTSTART;TZID=America/New_York:20240623T080000
DTEND;TZID=America/New_York:20240623T110000
DTSTAMP:20260422T095311
CREATED:20240311T175950Z
LAST-MODIFIED:20240311T175950Z
UID:2227-1719129600-1719140400@bataviarodandgun.com
SUMMARY:Club Open 8:00 - Last Squad Out By 11:00
DESCRIPTION:
URL:https://bataviarodandgun.com/event/club-open-800-last-squad-out-by-1100-29/
END:VEVENT
BEGIN:VEVENT
DTSTART;TZID=America/New_York:20240617T200000
DTEND;TZID=America/New_York:20240617T210000
DTSTAMP:20260422T095311
CREATED:20231219T212732Z
LAST-MODIFIED:20231219T212732Z
UID:2120-1718654400-1718658000@bataviarodandgun.com
SUMMARY:Member Meeting 7:00 PM
DESCRIPTION:
URL:https://bataviarodandgun.com/event/member-meeting-700-pm-5/
END:VEVENT
BEGIN:VEVENT
DTSTART;TZID=America/New_York:20240616T080000
DTEND;TZID=America/New_York:20240616T110000
DTSTAMP:20260422T095311
CREATED:20240311T175903Z
LAST-MODIFIED:20240311T175903Z
UID:2225-1718524800-1718535600@bataviarodandgun.com
SUMMARY:Club Open 8:00 - Last Squad Out By 11:00
DESCRIPTION:
URL:https://bataviarodandgun.com/event/club-open-800-last-squad-out-by-1100-28/
END:VEVENT
BEGIN:VEVENT
DTSTART;TZID=America/New_York:20240609T080000
DTEND;TZID=America/New_York:20240609T110000
DTSTAMP:20260422T095311
CREATED:20240311T175819Z
LAST-MODIFIED:20240311T175819Z
UID:2223-1717920000-1717930800@bataviarodandgun.com
SUMMARY:Club Open 8:00 - Last Squad Out By 11:00
DESCRIPTION:
URL:https://bataviarodandgun.com/event/club-open-800-last-squad-out-by-1100-27/
END:VEVENT
END:VCALENDAR