BEGIN:VCALENDAR
VERSION:2.0
PRODID:-//Batavia Rod and Gun Club, Inc. - ECPv4.9.14.1//NONSGML v1.0//EN
CALSCALE:GREGORIAN
METHOD:PUBLISH
X-WR-CALNAME:Batavia Rod and Gun Club, Inc.
X-ORIGINAL-URL:https://bataviarodandgun.com
X-WR-CALDESC:Events for Batavia Rod and Gun Club, Inc.
BEGIN:VTIMEZONE
TZID:America/New_York
BEGIN:DAYLIGHT
TZOFFSETFROM:-0500
TZOFFSETTO:-0400
TZNAME:EDT
DTSTART:20160313T070000
END:DAYLIGHT
BEGIN:STANDARD
TZOFFSETFROM:-0400
TZOFFSETTO:-0500
TZNAME:EST
DTSTART:20161106T060000
END:STANDARD
BEGIN:DAYLIGHT
TZOFFSETFROM:-0500
TZOFFSETTO:-0400
TZNAME:EDT
DTSTART:20170312T070000
END:DAYLIGHT
BEGIN:STANDARD
TZOFFSETFROM:-0400
TZOFFSETTO:-0500
TZNAME:EST
DTSTART:20171105T060000
END:STANDARD
END:VTIMEZONE
BEGIN:VEVENT
DTSTART;TZID=America/New_York:20170318T080000
DTEND;TZID=America/New_York:20170318T110000
DTSTAMP:20260423T031350
CREATED:20160829T192016Z
LAST-MODIFIED:20160829T192016Z
UID:302-1489824000-1489834800@bataviarodandgun.com
SUMMARY:Sporting Clays Open 8:00am
DESCRIPTION:
URL:https://bataviarodandgun.com/event/sporting-clays-open-800am-31/
END:VEVENT
BEGIN:VEVENT
DTSTART;TZID=America/New_York:20170312T080000
DTEND;TZID=America/New_York:20170312T110000
DTSTAMP:20260423T031350
CREATED:20160829T191942Z
LAST-MODIFIED:20160829T191942Z
UID:301-1489305600-1489316400@bataviarodandgun.com
SUMMARY:Sporting Clays Open 8:00am
DESCRIPTION:
URL:https://bataviarodandgun.com/event/sporting-clays-open-800am-30/
END:VEVENT
BEGIN:VEVENT
DTSTART;TZID=America/New_York:20170311T080000
DTEND;TZID=America/New_York:20170311T110000
DTSTAMP:20260423T031350
CREATED:20160829T191903Z
LAST-MODIFIED:20160829T191903Z
UID:300-1489219200-1489230000@bataviarodandgun.com
SUMMARY:Sporting Clays Open 8:00am
DESCRIPTION:
URL:https://bataviarodandgun.com/event/sporting-clays-open-800am-29/
END:VEVENT
BEGIN:VEVENT
DTSTART;TZID=America/New_York:20170305T083000
DTEND;TZID=America/New_York:20170305T140000
DTSTAMP:20260423T031350
CREATED:20160801T174627Z
LAST-MODIFIED:20160802T120529Z
UID:195-1488702600-1488722400@bataviarodandgun.com
SUMMARY:Hunters Tour Sporting Clays
DESCRIPTION:European Start – 50 Targets \nRegistration 8:30 am – 1:00 pm \nShooting Time 9:00 am – 2:00 pm \n
URL:https://bataviarodandgun.com/event/hunters-tour-sporting-clays-3/
CATEGORIES:Hunters Tour Events
END:VEVENT
BEGIN:VEVENT
DTSTART;TZID=America/New_York:20170305T080000
DTEND;TZID=America/New_York:20170305T110000
DTSTAMP:20260423T031350
CREATED:20160829T191823Z
LAST-MODIFIED:20160829T191823Z
UID:299-1488700800-1488711600@bataviarodandgun.com
SUMMARY:Sporting Clays Open 8:00am
DESCRIPTION:
URL:https://bataviarodandgun.com/event/sporting-clays-open-800am-28/
END:VEVENT
BEGIN:VEVENT
DTSTART;VALUE=DATE:20170305
DTEND;VALUE=DATE:20170306
DTSTAMP:20260423T031350
CREATED:20161019T114548Z
LAST-MODIFIED:20161019T114548Z
UID:337-1488672000-1488758399@bataviarodandgun.com
SUMMARY:No Winter League Shooting
DESCRIPTION:
URL:https://bataviarodandgun.com/event/no-winter-league-shooting/
END:VEVENT
BEGIN:VEVENT
DTSTART;TZID=America/New_York:20170304T083000
DTEND;TZID=America/New_York:20170304T140000
DTSTAMP:20260423T031350
CREATED:20160801T174516Z
LAST-MODIFIED:20160802T120559Z
UID:194-1488616200-1488636000@bataviarodandgun.com
SUMMARY:Hunters Tour Sporting Clays
DESCRIPTION:European Start – 50 Targets \nRegistration 8:30 am – 1:00 pm \nShooting Time 9:00 am – 2:00 pm \n
URL:https://bataviarodandgun.com/event/hunters-tour-sporting-clays-2/
CATEGORIES:Hunters Tour Events
END:VEVENT
BEGIN:VEVENT
DTSTART;TZID=America/New_York:20170304T080000
DTEND;TZID=America/New_York:20170304T110000
DTSTAMP:20260423T031350
CREATED:20160829T191755Z
LAST-MODIFIED:20160829T191755Z
UID:298-1488614400-1488625200@bataviarodandgun.com
SUMMARY:Sporting Clays Open 8:00am
DESCRIPTION:
URL:https://bataviarodandgun.com/event/sporting-clays-open-800am-27/
END:VEVENT
BEGIN:VEVENT
DTSTART;VALUE=DATE:20170304
DTEND;VALUE=DATE:20170305
DTSTAMP:20260423T031350
CREATED:20161019T114639Z
LAST-MODIFIED:20161019T114842Z
UID:338-1488585600-1488671999@bataviarodandgun.com
SUMMARY:No Winter League Shooting
DESCRIPTION:
URL:https://bataviarodandgun.com/event/no-winter-league-shooting-2/
END:VEVENT
BEGIN:VEVENT
DTSTART;TZID=America/New_York:20170226T080000
DTEND;TZID=America/New_York:20170226T110000
DTSTAMP:20260423T031350
CREATED:20170116T220020Z
LAST-MODIFIED:20170116T220020Z
UID:386-1488096000-1488106800@bataviarodandgun.com
SUMMARY:Sporting Clays Open 8:00am
DESCRIPTION:
URL:https://bataviarodandgun.com/event/sporting-clays-open-800am-41/
END:VEVENT
BEGIN:VEVENT
DTSTART;TZID=America/New_York:20170225T080000
DTEND;TZID=America/New_York:20170225T110000
DTSTAMP:20260423T031350
CREATED:20160829T191525Z
LAST-MODIFIED:20160829T191525Z
UID:296-1488009600-1488020400@bataviarodandgun.com
SUMMARY:Sporting Clays Open 8:00am
DESCRIPTION:
URL:https://bataviarodandgun.com/event/sporting-clays-open-800am-25/
END:VEVENT
BEGIN:VEVENT
DTSTART;TZID=America/New_York:20170220T200000
DTEND;TZID=America/New_York:20170220T210000
DTSTAMP:20260423T031350
CREATED:20160829T202824Z
LAST-MODIFIED:20160829T202824Z
UID:309-1487620800-1487624400@bataviarodandgun.com
SUMMARY:Member Meeting 8:00pm
DESCRIPTION:
URL:https://bataviarodandgun.com/event/member-meeting-800pm-3/
END:VEVENT
BEGIN:VEVENT
DTSTART;TZID=America/New_York:20170219T080000
DTEND;TZID=America/New_York:20170219T110000
DTSTAMP:20260423T031350
CREATED:20160829T191452Z
LAST-MODIFIED:20160829T191452Z
UID:295-1487491200-1487502000@bataviarodandgun.com
SUMMARY:Sporting Clays Open 8:00am
DESCRIPTION:
URL:https://bataviarodandgun.com/event/sporting-clays-open-800am-24/
END:VEVENT
BEGIN:VEVENT
DTSTART;TZID=America/New_York:20170218T080000
DTEND;TZID=America/New_York:20170218T110000
DTSTAMP:20260423T031350
CREATED:20160829T191422Z
LAST-MODIFIED:20160829T191422Z
UID:294-1487404800-1487415600@bataviarodandgun.com
SUMMARY:Sporting Clays Open 8:00am
DESCRIPTION:
URL:https://bataviarodandgun.com/event/sporting-clays-open-800am-23/
END:VEVENT
BEGIN:VEVENT
DTSTART;TZID=America/New_York:20170212T080000
DTEND;TZID=America/New_York:20170212T110000
DTSTAMP:20260423T031350
CREATED:20160829T191340Z
LAST-MODIFIED:20160829T191340Z
UID:293-1486886400-1486897200@bataviarodandgun.com
SUMMARY:Sporting Clays Open 8:00am
DESCRIPTION:
URL:https://bataviarodandgun.com/event/sporting-clays-open-800am-22/
END:VEVENT
BEGIN:VEVENT
DTSTART;TZID=America/New_York:20170211T080000
DTEND;TZID=America/New_York:20170211T110000
DTSTAMP:20260423T031350
CREATED:20160829T191303Z
LAST-MODIFIED:20160829T191303Z
UID:292-1486800000-1486810800@bataviarodandgun.com
SUMMARY:Sporting Clays Open 8:00am
DESCRIPTION:
URL:https://bataviarodandgun.com/event/sporting-clays-open-800am-21/
END:VEVENT
BEGIN:VEVENT
DTSTART;TZID=America/New_York:20170205T080000
DTEND;TZID=America/New_York:20170205T110000
DTSTAMP:20260423T031350
CREATED:20160829T191026Z
LAST-MODIFIED:20160829T191026Z
UID:291-1486281600-1486292400@bataviarodandgun.com
SUMMARY:Sporting Clays Open 8:00am
DESCRIPTION:
URL:https://bataviarodandgun.com/event/sporting-clays-open-800am-20/
END:VEVENT
BEGIN:VEVENT
DTSTART;TZID=America/New_York:20170204T080000
DTEND;TZID=America/New_York:20170204T110000
DTSTAMP:20260423T031350
CREATED:20160829T190854Z
LAST-MODIFIED:20160829T190854Z
UID:290-1486195200-1486206000@bataviarodandgun.com
SUMMARY:Sporting Clays Open 8:00am
DESCRIPTION:
URL:https://bataviarodandgun.com/event/sporting-clays-open-800am-19/
END:VEVENT
BEGIN:VEVENT
DTSTART;TZID=America/New_York:20170129T080000
DTEND;TZID=America/New_York:20170129T110000
DTSTAMP:20260423T031350
CREATED:20160829T190756Z
LAST-MODIFIED:20160829T190756Z
UID:289-1485676800-1485687600@bataviarodandgun.com
SUMMARY:Sporting Clays Open 8:00am
DESCRIPTION:
URL:https://bataviarodandgun.com/event/sporting-clays-open-800am-18/
END:VEVENT
BEGIN:VEVENT
DTSTART;TZID=America/New_York:20170128T080000
DTEND;TZID=America/New_York:20170128T110000
DTSTAMP:20260423T031350
CREATED:20160921T165836Z
LAST-MODIFIED:20160921T165836Z
UID:328-1485590400-1485601200@bataviarodandgun.com
SUMMARY:Sporting Clays Open
DESCRIPTION:
URL:https://bataviarodandgun.com/event/sporting-clays-open/
END:VEVENT
BEGIN:VEVENT
DTSTART;TZID=America/New_York:20170122T080000
DTEND;TZID=America/New_York:20170122T110000
DTSTAMP:20260423T031350
CREATED:20160829T190658Z
LAST-MODIFIED:20160829T190658Z
UID:287-1485072000-1485082800@bataviarodandgun.com
SUMMARY:Sporting Clays Open 8:00am
DESCRIPTION:
URL:https://bataviarodandgun.com/event/sporting-clays-open-800am-16/
END:VEVENT
BEGIN:VEVENT
DTSTART;TZID=America/New_York:20170121T080000
DTEND;TZID=America/New_York:20170121T110000
DTSTAMP:20260423T031350
CREATED:20160829T190626Z
LAST-MODIFIED:20160829T190626Z
UID:286-1484985600-1484996400@bataviarodandgun.com
SUMMARY:Sporting Clays Open 8:00am
DESCRIPTION:
URL:https://bataviarodandgun.com/event/sporting-clays-open-800am-15/
END:VEVENT
BEGIN:VEVENT
DTSTART;TZID=America/New_York:20170116T200000
DTEND;TZID=America/New_York:20170116T210000
DTSTAMP:20260423T031350
CREATED:20160829T202740Z
LAST-MODIFIED:20160829T202740Z
UID:308-1484596800-1484600400@bataviarodandgun.com
SUMMARY:Member Meeting 8:00pm
DESCRIPTION:
URL:https://bataviarodandgun.com/event/member-meeting-800pm-2/
END:VEVENT
BEGIN:VEVENT
DTSTART;TZID=America/New_York:20170115T080000
DTEND;TZID=America/New_York:20170115T110000
DTSTAMP:20260423T031350
CREATED:20160829T190550Z
LAST-MODIFIED:20160829T190550Z
UID:284-1484467200-1484478000@bataviarodandgun.com
SUMMARY:Sporting Clays Open 8:00am
DESCRIPTION:
URL:https://bataviarodandgun.com/event/sporting-clays-open-800am-14/
END:VEVENT
BEGIN:VEVENT
DTSTART;TZID=America/New_York:20170114T080000
DTEND;TZID=America/New_York:20170114T110000
DTSTAMP:20260423T031350
CREATED:20160829T190513Z
LAST-MODIFIED:20160829T190513Z
UID:283-1484380800-1484391600@bataviarodandgun.com
SUMMARY:Sporting Clays Open 8:00am
DESCRIPTION:
URL:https://bataviarodandgun.com/event/sporting-clays-open-800am-10/
END:VEVENT
BEGIN:VEVENT
DTSTART;TZID=America/New_York:20170108T080000
DTEND;TZID=America/New_York:20170108T110000
DTSTAMP:20260423T031350
CREATED:20160829T190312Z
LAST-MODIFIED:20160829T190312Z
UID:282-1483862400-1483873200@bataviarodandgun.com
SUMMARY:Sporting Clays Open 8:00am
DESCRIPTION:
URL:https://bataviarodandgun.com/event/sporting-clays-open-800am-9/
END:VEVENT
BEGIN:VEVENT
DTSTART;TZID=America/New_York:20170107T080000
DTEND;TZID=America/New_York:20170107T110000
DTSTAMP:20260423T031350
CREATED:20160829T190214Z
LAST-MODIFIED:20160829T190214Z
UID:281-1483776000-1483786800@bataviarodandgun.com
SUMMARY:Sporting Clays Open 8:00am
DESCRIPTION:
URL:https://bataviarodandgun.com/event/sporting-clays-open-800am-4/
END:VEVENT
BEGIN:VEVENT
DTSTART;TZID=America/New_York:20170107T080000
DTEND;TZID=America/New_York:20170107T110000
DTSTAMP:20260423T031350
CREATED:20160816T111218Z
LAST-MODIFIED:20160816T111225Z
UID:258-1483776000-1483786800@bataviarodandgun.com
SUMMARY:Sporting Clays Winter League Starts
DESCRIPTION:Last Squad Out 11:00 am \n
URL:https://bataviarodandgun.com/event/sporting-clays-winter-league-starts/
END:VEVENT
BEGIN:VEVENT
DTSTART;VALUE=DATE:20170101
DTEND;VALUE=DATE:20170102
DTSTAMP:20260423T031350
CREATED:20160801T175832Z
LAST-MODIFIED:20160801T175841Z
UID:198-1483228800-1483315199@bataviarodandgun.com
SUMMARY:Happy New Year!  Club is closed
DESCRIPTION:
URL:https://bataviarodandgun.com/event/happy-new-year-club-is-closed/
END:VEVENT
BEGIN:VEVENT
DTSTART;VALUE=DATE:20161225
DTEND;VALUE=DATE:20161226
DTSTAMP:20260423T031350
CREATED:20160801T175625Z
LAST-MODIFIED:20160801T175625Z
UID:196-1482624000-1482710399@bataviarodandgun.com
SUMMARY:Merry Christmas! Club is closed
DESCRIPTION:
URL:https://bataviarodandgun.com/event/merry-christmas-club-is-closed/
END:VEVENT
END:VCALENDAR