BEGIN:VCALENDAR
VERSION:2.0
PRODID:-//Batavia Rod and Gun Club, Inc. - ECPv4.9.14.1//NONSGML v1.0//EN
CALSCALE:GREGORIAN
METHOD:PUBLISH
X-WR-CALNAME:Batavia Rod and Gun Club, Inc.
X-ORIGINAL-URL:https://bataviarodandgun.com
X-WR-CALDESC:Events for Batavia Rod and Gun Club, Inc.
BEGIN:VTIMEZONE
TZID:America/New_York
BEGIN:DAYLIGHT
TZOFFSETFROM:-0500
TZOFFSETTO:-0400
TZNAME:EDT
DTSTART:20190310T070000
END:DAYLIGHT
BEGIN:STANDARD
TZOFFSETFROM:-0400
TZOFFSETTO:-0500
TZNAME:EST
DTSTART:20191103T060000
END:STANDARD
END:VTIMEZONE
BEGIN:VEVENT
DTSTART;TZID=America/New_York:20190105T080000
DTEND;TZID=America/New_York:20190105T110000
DTSTAMP:20260422T215217
CREATED:20181106T205411Z
LAST-MODIFIED:20181106T205411Z
UID:878-1546675200-1546686000@bataviarodandgun.com
SUMMARY:Winter Clays League Begins
DESCRIPTION:Winter Clays League Begins
URL:https://bataviarodandgun.com/event/winter-clays-league-begins/
END:VEVENT
END:VCALENDAR