BEGIN:VCALENDAR
VERSION:2.0
PRODID:-//Batavia Rod and Gun Club, Inc. - ECPv4.9.14.1//NONSGML v1.0//EN
CALSCALE:GREGORIAN
METHOD:PUBLISH
X-WR-CALNAME:Batavia Rod and Gun Club, Inc.
X-ORIGINAL-URL:https://bataviarodandgun.com
X-WR-CALDESC:Events for Batavia Rod and Gun Club, Inc.
BEGIN:VTIMEZONE
TZID:America/New_York
BEGIN:DAYLIGHT
TZOFFSETFROM:-0500
TZOFFSETTO:-0400
TZNAME:EDT
DTSTART:20220313T070000
END:DAYLIGHT
BEGIN:STANDARD
TZOFFSETFROM:-0400
TZOFFSETTO:-0500
TZNAME:EST
DTSTART:20221106T060000
END:STANDARD
END:VTIMEZONE
BEGIN:VEVENT
DTSTART;TZID=America/New_York:20220709T080000
DTEND;TZID=America/New_York:20220709T150000
DTSTAMP:20260425T211209
CREATED:20220411T163344Z
LAST-MODIFIED:20220411T165633Z
UID:1794-1657353600-1657378800@bataviarodandgun.com
SUMMARY:Independence Challenge - NSCA Event
DESCRIPTION:7-9-2022 Independence Challenge Flyer \nNSCA Registered 100 Target Event \nSign Ups:  8:00 – Noon \nSelf Squad\, European Start:  9:00 am \nIndependence Challenge – NSCA Event
URL:https://bataviarodandgun.com/event/sporting-clays-open-800-am-28/
CATEGORIES:Registered Target Events
END:VEVENT
END:VCALENDAR