BEGIN:VCALENDAR
VERSION:2.0
PRODID:-//Batavia Rod and Gun Club, Inc. - ECPv4.9.14.1//NONSGML v1.0//EN
CALSCALE:GREGORIAN
METHOD:PUBLISH
X-WR-CALNAME:Batavia Rod and Gun Club, Inc.
X-ORIGINAL-URL:https://bataviarodandgun.com
X-WR-CALDESC:Events for Batavia Rod and Gun Club, Inc.
BEGIN:VTIMEZONE
TZID:America/New_York
BEGIN:DAYLIGHT
TZOFFSETFROM:-0500
TZOFFSETTO:-0400
TZNAME:EDT
DTSTART:20210314T070000
END:DAYLIGHT
BEGIN:STANDARD
TZOFFSETFROM:-0400
TZOFFSETTO:-0500
TZNAME:EST
DTSTART:20211107T060000
END:STANDARD
END:VTIMEZONE
BEGIN:VEVENT
DTSTART;TZID=America/New_York:20210926T080000
DTEND;TZID=America/New_York:20210926T110000
DTSTAMP:20260421T195914
CREATED:20210705T111620Z
LAST-MODIFIED:20210914T133342Z
UID:1577-1632643200-1632654000@bataviarodandgun.com
SUMMARY:Sporting Clays Open 8:00 am
DESCRIPTION:Sign-Ups 8:00 am – Last Squad Out 11:00 am \nSporting Clays Open 8:00 am
URL:https://bataviarodandgun.com/event/sporting-clays-open-800-am-21/
END:VEVENT
END:VCALENDAR