BEGIN:VCALENDAR
VERSION:2.0
PRODID:-//Batavia Rod and Gun Club, Inc. - ECPv4.9.14.1//NONSGML v1.0//EN
CALSCALE:GREGORIAN
METHOD:PUBLISH
X-WR-CALNAME:Batavia Rod and Gun Club, Inc.
X-ORIGINAL-URL:https://bataviarodandgun.com
X-WR-CALDESC:Events for Batavia Rod and Gun Club, Inc.
BEGIN:VTIMEZONE
TZID:America/New_York
BEGIN:DAYLIGHT
TZOFFSETFROM:-0500
TZOFFSETTO:-0400
TZNAME:EDT
DTSTART:20190310T070000
END:DAYLIGHT
BEGIN:STANDARD
TZOFFSETFROM:-0400
TZOFFSETTO:-0500
TZNAME:EST
DTSTART:20191103T060000
END:STANDARD
END:VTIMEZONE
BEGIN:VEVENT
DTSTART;TZID=America/New_York:20190121T200000
DTEND;TZID=America/New_York:20190121T210000
DTSTAMP:20260423T021254
CREATED:20181106T210112Z
LAST-MODIFIED:20210129T164034Z
UID:880-1548100800-1548104400@bataviarodandgun.com
SUMMARY:Member Meeting 7:30 PM
DESCRIPTION:Member Meeting 7:30 PM
URL:https://bataviarodandgun.com/event/member-meeting/
END:VEVENT
END:VCALENDAR