BEGIN:VCALENDAR
VERSION:2.0
PRODID:-//Batavia Rod and Gun Club, Inc. - ECPv4.9.14.1//NONSGML v1.0//EN
CALSCALE:GREGORIAN
METHOD:PUBLISH
X-WR-CALNAME:Batavia Rod and Gun Club, Inc.
X-ORIGINAL-URL:https://bataviarodandgun.com
X-WR-CALDESC:Events for Batavia Rod and Gun Club, Inc.
BEGIN:VTIMEZONE
TZID:America/New_York
BEGIN:DAYLIGHT
TZOFFSETFROM:-0500
TZOFFSETTO:-0400
TZNAME:EDT
DTSTART:20240310T070000
END:DAYLIGHT
BEGIN:STANDARD
TZOFFSETFROM:-0400
TZOFFSETTO:-0500
TZNAME:EST
DTSTART:20241103T060000
END:STANDARD
END:VTIMEZONE
BEGIN:VEVENT
DTSTART;TZID=America/New_York:20240803T080000
DTEND;TZID=America/New_York:20240803T080000
DTSTAMP:20260419T175238
CREATED:20240606T181058Z
LAST-MODIFIED:20240606T181601Z
UID:2253-1722672000-1722672000@bataviarodandgun.com
SUMMARY:Ducks Unlimited Shoot - Registration 8:00 am / Shooting 9:00 am
DESCRIPTION:https://bataviarodandgun.com/wp-content/uploads/2024/06/DU-Flyer.pdf \nDucks Unlimited Shoot – Registration 8:00 am / Shooting 9:00 am
URL:https://bataviarodandgun.com/event/ducks-unlimited-shoot-registration-800-am-shooting-900-am/
END:VEVENT
END:VCALENDAR